BEGIN:VCALENDAR
VERSION:2.0
PRODID:-//Regio Nederland - ECPv6.15.9//NONSGML v1.0//EN
CALSCALE:GREGORIAN
METHOD:PUBLISH
X-ORIGINAL-URL:https://afs.nl
X-WR-CALDESC:Evenementen voor Regio Nederland
REFRESH-INTERVAL;VALUE=DURATION:PT1H
X-Robots-Tag:noindex
X-PUBLISHED-TTL:PT1H
BEGIN:VTIMEZONE
TZID:Europe/Helsinki
BEGIN:DAYLIGHT
TZOFFSETFROM:+0200
TZOFFSETTO:+0300
TZNAME:EEST
DTSTART:20210328T010000
END:DAYLIGHT
BEGIN:STANDARD
TZOFFSETFROM:+0300
TZOFFSETTO:+0200
TZNAME:EET
DTSTART:20211031T010000
END:STANDARD
BEGIN:DAYLIGHT
TZOFFSETFROM:+0200
TZOFFSETTO:+0300
TZNAME:EEST
DTSTART:20220327T010000
END:DAYLIGHT
BEGIN:STANDARD
TZOFFSETFROM:+0300
TZOFFSETTO:+0200
TZNAME:EET
DTSTART:20221030T010000
END:STANDARD
BEGIN:DAYLIGHT
TZOFFSETFROM:+0200
TZOFFSETTO:+0300
TZNAME:EEST
DTSTART:20230326T010000
END:DAYLIGHT
BEGIN:STANDARD
TZOFFSETFROM:+0300
TZOFFSETTO:+0200
TZNAME:EET
DTSTART:20231029T010000
END:STANDARD
BEGIN:DAYLIGHT
TZOFFSETFROM:+0200
TZOFFSETTO:+0300
TZNAME:EEST
DTSTART:20240331T010000
END:DAYLIGHT
BEGIN:STANDARD
TZOFFSETFROM:+0300
TZOFFSETTO:+0200
TZNAME:EET
DTSTART:20241027T010000
END:STANDARD
BEGIN:DAYLIGHT
TZOFFSETFROM:+0200
TZOFFSETTO:+0300
TZNAME:EEST
DTSTART:20250330T010000
END:DAYLIGHT
BEGIN:STANDARD
TZOFFSETFROM:+0300
TZOFFSETTO:+0200
TZNAME:EET
DTSTART:20251026T010000
END:STANDARD
END:VTIMEZONE
BEGIN:VEVENT
DTSTART;TZID=Europe/Helsinki:20240627T190000
DTEND;TZID=Europe/Helsinki:20240627T200000
DTSTAMP:20260419T200847
CREATED:20240621T081134Z
LAST-MODIFIED:20240621T081134Z
UID:16797-1719514800-1719518400@afs.nl
SUMMARY:Online infomoment ‘Wereldgezin worden bij AFS Low Lands’
DESCRIPTION:Door een buitenlandse scholier of jongvolwassene in huis te verwelkomen\, beleef je een interculturele uitwisseling in eigen land! Heb je interesse en wil je meer weten over het gastgezin zijn bij AFS? Kom dan zeker eens vrijblijvend luisteren. Iedereen kan gastgezin worden\, ongeacht de samenstelling van het gezin. Ook alleenstaanden\, LGBTQI+-koppels of mensen zonder kinderen\, kunnen perfect gastouder worden. Tweeverdieners in het hartje van de stad of gepensioneerden op het platteland\,… iedereen die over een gezonde portie nieuwsgierigheid beschikt\, geïnteresseerd is in andere culturen en graag met jongeren omgaat\, is welkom! Stel zeker al je vragen! \nSchrijf je hier in
URL:https://afs.nl/event/online-infomoment-wereldgezin-worden-bij-afs-low-lands-2/2024-06-27/
LOCATION:Online
CATEGORIES:Gastgezin
END:VEVENT
BEGIN:VEVENT
DTSTART;TZID=Europe/Helsinki:20221221T193000
DTEND;TZID=Europe/Helsinki:20221221T203000
DTSTAMP:20260419T200847
CREATED:20220509T150337Z
LAST-MODIFIED:20220511T102634Z
UID:13840-1671651000-1671654600@afs.nl
SUMMARY:AFS Low Lands Wereldgezin infomoment
DESCRIPTION:Door een buitenlandse scholier of jongvolwassene in huis te verwelkomen\, beleef je een interculturele uitwisseling in eigen land! Heb je interesse en wil je meer weten over het gastgezin zijn bij AFS? Kom dan zeker eens vrijblijvend luisteren. Iedereen kan gastgezin worden\, ongeacht de samenstelling van het gezin. Ook alleenstaanden\, lhbti-koppels of mensen zonder kinderen\, kunnen perfect gastouder worden. Tweeverdieners in het hartje van de stad of gepensioneerden op het platteland\,… iedereen die over een gezonde portie nieuwsgierigheid beschikt\, geïnteresseerd is in andere culturen en graag met jongeren omgaat\, is welkom! Stel zeker al je vragen! \nSchrijf je gratis in
URL:https://afs.nl/event/afs-low-lands-wereldgezin-infomoment-8/
LOCATION:Online
CATEGORIES:Gastgezin
END:VEVENT
BEGIN:VEVENT
DTSTART;TZID=Europe/Helsinki:20221124T193000
DTEND;TZID=Europe/Helsinki:20221124T203000
DTSTAMP:20260419T200847
CREATED:20220509T145812Z
LAST-MODIFIED:20220511T102640Z
UID:13834-1669318200-1669321800@afs.nl
SUMMARY:AFS Low Lands Wereldgezin infomoment
DESCRIPTION:Door een buitenlandse scholier of jongvolwassene in huis te verwelkomen\, beleef je een interculturele uitwisseling in eigen land! Heb je interesse en wil je meer weten over het gastgezin zijn bij AFS? Kom dan zeker eens vrijblijvend luisteren. Iedereen kan gastgezin worden\, ongeacht de samenstelling van het gezin. Ook alleenstaanden\, lhbti-koppels of mensen zonder kinderen\, kunnen perfect gastouder worden. Tweeverdieners in het hartje van de stad of gepensioneerden op het platteland\,… iedereen die over een gezonde portie nieuwsgierigheid beschikt\, geïnteresseerd is in andere culturen en graag met jongeren omgaat\, is welkom! Stel zeker al je vragen! \nSchrijf je gratis in
URL:https://afs.nl/event/afs-low-lands-wereldgezin-infomoment-7/
LOCATION:Online
CATEGORIES:Gastgezin
END:VEVENT
END:VCALENDAR