BEGIN:VCALENDAR
VERSION:2.0
PRODID:-//Regio Nederland - ECPv6.15.9//NONSGML v1.0//EN
CALSCALE:GREGORIAN
METHOD:PUBLISH
X-ORIGINAL-URL:https://afs.nl
X-WR-CALDESC:Evenementen voor Regio Nederland
REFRESH-INTERVAL;VALUE=DURATION:PT1H
X-Robots-Tag:noindex
X-PUBLISHED-TTL:PT1H
BEGIN:VTIMEZONE
TZID:Europe/Helsinki
BEGIN:DAYLIGHT
TZOFFSETFROM:+0200
TZOFFSETTO:+0300
TZNAME:EEST
DTSTART:20240331T010000
END:DAYLIGHT
BEGIN:STANDARD
TZOFFSETFROM:+0300
TZOFFSETTO:+0200
TZNAME:EET
DTSTART:20241027T010000
END:STANDARD
BEGIN:DAYLIGHT
TZOFFSETFROM:+0200
TZOFFSETTO:+0300
TZNAME:EEST
DTSTART:20250330T010000
END:DAYLIGHT
BEGIN:STANDARD
TZOFFSETFROM:+0300
TZOFFSETTO:+0200
TZNAME:EET
DTSTART:20251026T010000
END:STANDARD
BEGIN:DAYLIGHT
TZOFFSETFROM:+0200
TZOFFSETTO:+0300
TZNAME:EEST
DTSTART:20260329T010000
END:DAYLIGHT
BEGIN:STANDARD
TZOFFSETFROM:+0300
TZOFFSETTO:+0200
TZNAME:EET
DTSTART:20261025T010000
END:STANDARD
END:VTIMEZONE
BEGIN:VEVENT
DTSTART;TZID=Europe/Helsinki:20250211T200000
DTEND;TZID=Europe/Helsinki:20250211T220000
DTSTAMP:20260419T185451
CREATED:20230205T154155Z
LAST-MODIFIED:20250120T160825Z
UID:16078-1739304000-1739311200@afs.nl
SUMMARY:Online infomoment ‘Naar het buitenland met AFS’
DESCRIPTION:Kom meer te weten over uitwisselingsprogramma’s van AFS! Tijdens het infomoment vertellen wij je alles over de aanmeld- en inschrijfprocedure\,  over de werking van AFS\, ons aanbod en wat het #afseffect is. Er is minstens één returnee aanwezig die heel graag diens ervaring met jou deelt! Je kan hier ook terecht om al jouw vragen te stellen! \nOok je ouders\, broers en zussen zijn uiteraard welkom. \nSchrijf je in
URL:https://afs.nl/event/online-infomoment-11-februari/
CATEGORIES:Infomoment
END:VEVENT
END:VCALENDAR