BEGIN:VCALENDAR
VERSION:2.0
PRODID:-//Regio Nederland - ECPv6.15.9//NONSGML v1.0//EN
CALSCALE:GREGORIAN
METHOD:PUBLISH
X-ORIGINAL-URL:https://afs.nl
X-WR-CALDESC:Evenementen voor Regio Nederland
REFRESH-INTERVAL;VALUE=DURATION:PT1H
X-Robots-Tag:noindex
X-PUBLISHED-TTL:PT1H
BEGIN:VTIMEZONE
TZID:Europe/Helsinki
BEGIN:DAYLIGHT
TZOFFSETFROM:+0200
TZOFFSETTO:+0300
TZNAME:EEST
DTSTART:20240331T010000
END:DAYLIGHT
BEGIN:STANDARD
TZOFFSETFROM:+0300
TZOFFSETTO:+0200
TZNAME:EET
DTSTART:20241027T010000
END:STANDARD
BEGIN:DAYLIGHT
TZOFFSETFROM:+0200
TZOFFSETTO:+0300
TZNAME:EEST
DTSTART:20250330T010000
END:DAYLIGHT
BEGIN:STANDARD
TZOFFSETFROM:+0300
TZOFFSETTO:+0200
TZNAME:EET
DTSTART:20251026T010000
END:STANDARD
BEGIN:DAYLIGHT
TZOFFSETFROM:+0200
TZOFFSETTO:+0300
TZNAME:EEST
DTSTART:20260329T010000
END:DAYLIGHT
BEGIN:STANDARD
TZOFFSETFROM:+0300
TZOFFSETTO:+0200
TZNAME:EET
DTSTART:20261025T010000
END:STANDARD
END:VTIMEZONE
BEGIN:VEVENT
DTSTART;TZID=Europe/Helsinki:20250925T190000
DTEND;TZID=Europe/Helsinki:20250925T200000
DTSTAMP:20260421T140030
CREATED:20230309T110858Z
LAST-MODIFIED:20230309T110858Z
UID:17155-1758826800-1758830400@afs.nl
SUMMARY:Online infomoment 'Wereldgezin worden bij AFS Low Lands"
DESCRIPTION:Jaarlijks verwelkomen we buitenlandse scholieren in Nederland voor een interculturele uitwisseling. Door een buitenlandse scholier in huis te verwelkomen\, beleef je zelf ook een interculturele uitwisseling in eigen land! Heb je interesse en wil je meer weten over het gastgezin zijn bij AFS? Kom dan zeker eens vrijblijvend luisteren. Iedereen kan gastgezin worden\, ongeacht de samenstelling van het gezin. Ook alleenstaanden\, lhbti-koppels of mensen zonder kinderen\, kunnen perfect gastouder worden. Tweeverdieners in het hartje van de stad of gepensioneerden op het platteland\,… iedereen die over een gezonde portie nieuwsgierigheid beschikt\, geïnteresseerd is in andere culturen en graag met jongeren omgaat\, is welkom! Stel zeker al je vragen! \nSchrijf je gratis in
URL:https://afs.nl/event/online-infomoment-wereldgezin-worden-bij-afs-low-lands/2025-09-25/
LOCATION:Online
CATEGORIES:Gastgezin
END:VEVENT
BEGIN:VEVENT
DTSTART;TZID=Europe/Helsinki:20250828T190000
DTEND;TZID=Europe/Helsinki:20250828T200000
DTSTAMP:20260421T140030
CREATED:20230309T110858Z
LAST-MODIFIED:20230309T110858Z
UID:17154-1756407600-1756411200@afs.nl
SUMMARY:Online infomoment 'Wereldgezin worden bij AFS Low Lands"
DESCRIPTION:Jaarlijks verwelkomen we buitenlandse scholieren in Nederland voor een interculturele uitwisseling. Door een buitenlandse scholier in huis te verwelkomen\, beleef je zelf ook een interculturele uitwisseling in eigen land! Heb je interesse en wil je meer weten over het gastgezin zijn bij AFS? Kom dan zeker eens vrijblijvend luisteren. Iedereen kan gastgezin worden\, ongeacht de samenstelling van het gezin. Ook alleenstaanden\, lhbti-koppels of mensen zonder kinderen\, kunnen perfect gastouder worden. Tweeverdieners in het hartje van de stad of gepensioneerden op het platteland\,… iedereen die over een gezonde portie nieuwsgierigheid beschikt\, geïnteresseerd is in andere culturen en graag met jongeren omgaat\, is welkom! Stel zeker al je vragen! \nSchrijf je gratis in
URL:https://afs.nl/event/online-infomoment-wereldgezin-worden-bij-afs-low-lands/2025-08-28/
LOCATION:Online
CATEGORIES:Gastgezin
END:VEVENT
BEGIN:VEVENT
DTSTART;TZID=Europe/Helsinki:20250731T190000
DTEND;TZID=Europe/Helsinki:20250731T200000
DTSTAMP:20260421T140030
CREATED:20230309T110858Z
LAST-MODIFIED:20230309T110858Z
UID:17153-1753988400-1753992000@afs.nl
SUMMARY:Online infomoment 'Wereldgezin worden bij AFS Low Lands"
DESCRIPTION:Jaarlijks verwelkomen we buitenlandse scholieren in Nederland voor een interculturele uitwisseling. Door een buitenlandse scholier in huis te verwelkomen\, beleef je zelf ook een interculturele uitwisseling in eigen land! Heb je interesse en wil je meer weten over het gastgezin zijn bij AFS? Kom dan zeker eens vrijblijvend luisteren. Iedereen kan gastgezin worden\, ongeacht de samenstelling van het gezin. Ook alleenstaanden\, lhbti-koppels of mensen zonder kinderen\, kunnen perfect gastouder worden. Tweeverdieners in het hartje van de stad of gepensioneerden op het platteland\,… iedereen die over een gezonde portie nieuwsgierigheid beschikt\, geïnteresseerd is in andere culturen en graag met jongeren omgaat\, is welkom! Stel zeker al je vragen! \nSchrijf je gratis in
URL:https://afs.nl/event/online-infomoment-wereldgezin-worden-bij-afs-low-lands/2025-07-31/
LOCATION:Online
CATEGORIES:Gastgezin
END:VEVENT
BEGIN:VEVENT
DTSTART;TZID=Europe/Helsinki:20250701T200000
DTEND;TZID=Europe/Helsinki:20250701T220000
DTSTAMP:20260421T140030
CREATED:20231122T142024Z
LAST-MODIFIED:20250411T075026Z
UID:16634-1751400000-1751407200@afs.nl
SUMMARY:Online infoavond 'Naar het buitenland met AFS'
DESCRIPTION:Kom meer te weten over uitwisselingsprogramma’s van AFS! Tijdens het infomoment vertellen wij je alles over de aanmeld- en inschrijfprocedure\,  over de werking van AFS\, ons aanbod en wat het #afseffect is. Je kan hier terecht om al jouw vragen te stellen! \nSchrijf je in \n 
URL:https://afs.nl/event/online-sending-juli/
LOCATION:Online
CATEGORIES:Infomoment
END:VEVENT
BEGIN:VEVENT
DTSTART;TZID=Europe/Helsinki:20250626T190000
DTEND;TZID=Europe/Helsinki:20250626T200000
DTSTAMP:20260421T140030
CREATED:20230309T110858Z
LAST-MODIFIED:20230309T110858Z
UID:17152-1750964400-1750968000@afs.nl
SUMMARY:Online infomoment 'Wereldgezin worden bij AFS Low Lands"
DESCRIPTION:Jaarlijks verwelkomen we buitenlandse scholieren in Nederland voor een interculturele uitwisseling. Door een buitenlandse scholier in huis te verwelkomen\, beleef je zelf ook een interculturele uitwisseling in eigen land! Heb je interesse en wil je meer weten over het gastgezin zijn bij AFS? Kom dan zeker eens vrijblijvend luisteren. Iedereen kan gastgezin worden\, ongeacht de samenstelling van het gezin. Ook alleenstaanden\, lhbti-koppels of mensen zonder kinderen\, kunnen perfect gastouder worden. Tweeverdieners in het hartje van de stad of gepensioneerden op het platteland\,… iedereen die over een gezonde portie nieuwsgierigheid beschikt\, geïnteresseerd is in andere culturen en graag met jongeren omgaat\, is welkom! Stel zeker al je vragen! \nSchrijf je gratis in
URL:https://afs.nl/event/online-infomoment-wereldgezin-worden-bij-afs-low-lands/2025-06-26/
LOCATION:Online
CATEGORIES:Gastgezin
END:VEVENT
BEGIN:VEVENT
DTSTART;TZID=Europe/Helsinki:20250529T190000
DTEND;TZID=Europe/Helsinki:20250529T200000
DTSTAMP:20260421T140030
CREATED:20230309T110858Z
LAST-MODIFIED:20230309T110858Z
UID:17151-1748545200-1748548800@afs.nl
SUMMARY:Online infomoment 'Wereldgezin worden bij AFS Low Lands"
DESCRIPTION:Jaarlijks verwelkomen we buitenlandse scholieren in Nederland voor een interculturele uitwisseling. Door een buitenlandse scholier in huis te verwelkomen\, beleef je zelf ook een interculturele uitwisseling in eigen land! Heb je interesse en wil je meer weten over het gastgezin zijn bij AFS? Kom dan zeker eens vrijblijvend luisteren. Iedereen kan gastgezin worden\, ongeacht de samenstelling van het gezin. Ook alleenstaanden\, lhbti-koppels of mensen zonder kinderen\, kunnen perfect gastouder worden. Tweeverdieners in het hartje van de stad of gepensioneerden op het platteland\,… iedereen die over een gezonde portie nieuwsgierigheid beschikt\, geïnteresseerd is in andere culturen en graag met jongeren omgaat\, is welkom! Stel zeker al je vragen! \nSchrijf je gratis in
URL:https://afs.nl/event/online-infomoment-wereldgezin-worden-bij-afs-low-lands/2025-05-29/
LOCATION:Online
CATEGORIES:Gastgezin
END:VEVENT
BEGIN:VEVENT
DTSTART;TZID=Europe/Helsinki:20250527T190000
DTEND;TZID=Europe/Helsinki:20250527T200000
DTSTAMP:20260421T140030
CREATED:20250411T104736Z
LAST-MODIFIED:20250411T104736Z
UID:17183-1748372400-1748376000@afs.nl
SUMMARY:Infosessie folk college Denemarken
DESCRIPTION:Onze collega’s van AFS Denemarken zullen het folk college programma voorstellen\, en tips geven over hoe je de juiste folk college voor jou kiest.\nHeb jij interesse in de folk colleges en wil je er graag meer over weten? Kom luisteren op dit infomoment en stel al je vragen aan de experts ter plaatse!\nDeze infosessie gaat door in het Engels en is specifiek voor jongeren van de Benelux. \nSchrijf je hier in
URL:https://afs.nl/event/infosessie-folk-college-denemarken/
LOCATION:Online
CATEGORIES:Infomoment
END:VEVENT
BEGIN:VEVENT
DTSTART;TZID=Europe/Helsinki:20250424T190000
DTEND;TZID=Europe/Helsinki:20250424T200000
DTSTAMP:20260421T140030
CREATED:20230309T110858Z
LAST-MODIFIED:20230309T110858Z
UID:17150-1745521200-1745524800@afs.nl
SUMMARY:Online infomoment 'Wereldgezin worden bij AFS Low Lands"
DESCRIPTION:Jaarlijks verwelkomen we buitenlandse scholieren in Nederland voor een interculturele uitwisseling. Door een buitenlandse scholier in huis te verwelkomen\, beleef je zelf ook een interculturele uitwisseling in eigen land! Heb je interesse en wil je meer weten over het gastgezin zijn bij AFS? Kom dan zeker eens vrijblijvend luisteren. Iedereen kan gastgezin worden\, ongeacht de samenstelling van het gezin. Ook alleenstaanden\, lhbti-koppels of mensen zonder kinderen\, kunnen perfect gastouder worden. Tweeverdieners in het hartje van de stad of gepensioneerden op het platteland\,… iedereen die over een gezonde portie nieuwsgierigheid beschikt\, geïnteresseerd is in andere culturen en graag met jongeren omgaat\, is welkom! Stel zeker al je vragen! \nSchrijf je gratis in
URL:https://afs.nl/event/online-infomoment-wereldgezin-worden-bij-afs-low-lands/2025-04-24/
LOCATION:Online
CATEGORIES:Gastgezin
END:VEVENT
BEGIN:VEVENT
DTSTART;TZID=Europe/Helsinki:20250423T140000
DTEND;TZID=Europe/Helsinki:20250423T153000
DTSTAMP:20260421T140030
CREATED:20231122T140137Z
LAST-MODIFIED:20250411T074237Z
UID:16628-1745416800-1745422200@afs.nl
SUMMARY:Online infomoment 'Naar het buitenland met AFS'
DESCRIPTION:Kom meer te weten over uitwisselingsprogramma’s van AFS! Tijdens het infomoment vertellen wij je alles over de aanmeld- en inschrijfprocedure\,  over de werking van AFS\, ons aanbod en wat het #afseffect is. Je kan hier terecht om al jouw vragen te stellen! \nSchrijf je in!
URL:https://afs.nl/event/online-april/
LOCATION:Online
CATEGORIES:Infomoment
END:VEVENT
BEGIN:VEVENT
DTSTART;TZID=Europe/Helsinki:20250327T190000
DTEND;TZID=Europe/Helsinki:20250327T200000
DTSTAMP:20260421T140030
CREATED:20230309T110858Z
LAST-MODIFIED:20250317T135511Z
UID:16167-1743102000-1743105600@afs.nl
SUMMARY:Online infomoment 'Wereldgezin worden bij AFS Low Lands"
DESCRIPTION:Jaarlijks verwelkomen we buitenlandse scholieren in Nederland voor een interculturele uitwisseling. Door een buitenlandse scholier in huis te verwelkomen\, beleef je zelf ook een interculturele uitwisseling in eigen land! Heb je interesse en wil je meer weten over het gastgezin zijn bij AFS? Kom dan zeker eens vrijblijvend luisteren. Iedereen kan gastgezin worden\, ongeacht de samenstelling van het gezin. Ook alleenstaanden\, lhbti-koppels of mensen zonder kinderen\, kunnen perfect gastouder worden. Tweeverdieners in het hartje van de stad of gepensioneerden op het platteland\,… iedereen die over een gezonde portie nieuwsgierigheid beschikt\, geïnteresseerd is in andere culturen en graag met jongeren omgaat\, is welkom! Stel zeker al je vragen! \nSchrijf je gratis in
URL:https://afs.nl/event/online-infomoment-wereldgezin-worden-bij-afs-low-lands/2025-03-27/
LOCATION:Online
CATEGORIES:Gastgezin
END:VEVENT
END:VCALENDAR